BEGIN:VCALENDAR
VERSION:2.0
PRODID:-//eventon.com NONSGML v1.0//EN
CALSCALE:GREGORIAN
METHOD:PUBLISH
BEGIN:VEVENT
UID:69e7497d28bd6
DTSTAMP:20260421T095509Z
DTSTART:20260801
DTEND:20260802
LOCATION:
SUMMARY:Messedienst Nickel
DESCRIPTION:Messedienst Nickel\nhttps://scspandau.de/events/messedienst-nic
 kel-2/
URL:https://scspandau.de/events/messedienst-nickel-2/
END:VEVENT
END:VCALENDAR