BEGIN:VCALENDAR
VERSION:2.0
PRODID:-//eventon.com NONSGML v1.0//EN
CALSCALE:GREGORIAN
METHOD:PUBLISH
BEGIN:VEVENT
UID:69e7366c393a5
DTSTAMP:20260421T083348Z
DTSTART:20260725
DTEND:20260726
LOCATION:
SUMMARY:Messedienst Lenkisch
DESCRIPTION:Messedienst Lenkisch\nhttps://scspandau.de/events/messedienst-l
 enkisch-3/
URL:https://scspandau.de/events/messedienst-lenkisch-3/
END:VEVENT
END:VCALENDAR