BEGIN:VCALENDAR
VERSION:2.0
PRODID:-//eventon.com NONSGML v1.0//EN
CALSCALE:GREGORIAN
METHOD:PUBLISH
BEGIN:VEVENT
UID:69e7363d74b67
DTSTAMP:20260421T083301Z
DTSTART:20270216T170000Z
DTEND:20270216T190000Z
LOCATION:01. SC Vereinsheim Elkartweg 18\,  13587 Berlin
SUMMARY:2. Vorstandssitzung
DESCRIPTION:2. Vorstandssitzung\nhttps://scspandau.de/events/2-vorstandssit
 zung-5/
URL:https://scspandau.de/events/2-vorstandssitzung-5/
END:VEVENT
END:VCALENDAR