BEGIN:VCALENDAR
VERSION:2.0
PRODID:-//eventon.com NONSGML v1.0//EN
CALSCALE:GREGORIAN
METHOD:PUBLISH
BEGIN:VEVENT
UID:69e73d0fc1829
DTSTAMP:20260421T090207Z
DTSTART:20261024T080000Z
DTEND:20261025T170000Z
LOCATION:
SUMMARY:63. Eispokal
DESCRIPTION:s. Ausschr.\nhttps://scspandau.de/events/63-eispokal/
URL:https://scspandau.de/events/63-eispokal/
END:VEVENT
END:VCALENDAR