BEGIN:VCALENDAR
VERSION:2.0
PRODID:-//eventon.com NONSGML v1.0//EN
CALSCALE:GREGORIAN
METHOD:PUBLISH
BEGIN:VEVENT
UID:69e5f0c847493
DTSTAMP:20260420T092424Z
DTSTART:20260714T160000Z
DTEND:20260714T180000Z
LOCATION:01. SC Vereinsheim Elkartweg 18\,  13587 Berlin
SUMMARY:6. Vorstandssitzung
DESCRIPTION:6. Vorstandssitzung\nhttps://scspandau.de/events/6-vorstandssit
 zung-3/
URL:https://scspandau.de/events/6-vorstandssitzung-3/
END:VEVENT
END:VCALENDAR