BEGIN:VCALENDAR
VERSION:2.0
PRODID:-//eventon.com NONSGML v1.0//EN
CALSCALE:GREGORIAN
METHOD:PUBLISH
BEGIN:VEVENT
UID:69e4e15a07e83
DTSTAMP:20260419T140618Z
DTSTART:20261107T050000Z
DTEND:20261107T180000Z
LOCATION:01. SC Vereinsheim Elkartweg 18\,  13587 Berlin
SUMMARY:Aufslippen
DESCRIPTION:Aufslippen\nhttps://scspandau.de/events/aufslippen-4/
URL:https://scspandau.de/events/aufslippen-4/
END:VEVENT
END:VCALENDAR