BEGIN:VCALENDAR
VERSION:2.0
PRODID:-//eventon.com NONSGML v1.0//EN
CALSCALE:GREGORIAN
METHOD:PUBLISH
BEGIN:VEVENT
UID:69e4cb76dd577
DTSTAMP:20260419T123254Z
DTSTART:20260425
DTEND:20260426
LOCATION:
SUMMARY:Offizielles Ansegeln Revier Tegel (BSV) beim Tegeler Segel Club
DESCRIPTION:Datum: Sa\,  25.04.2026 Zeit: ab 10:00 Uhr Veranstalter: TSC Ve
 rein: Tegeler Segel Club Adresse: Schwarzer Weg 27\,  13505 Berlin Telefon:
  030 / 433 98 35 E-Mail: info@tegeler-segel-club.de Web: www.tegeler-segel-
 club.de\nhttps://scspandau.de/events/offizielles-ansegeln-revier-tegel-bsv-
 veranstalter-tsc/
URL:https://scspandau.de/events/offizielles-ansegeln-revier-tegel-bsv-veranstalter-tsc/
END:VEVENT
END:VCALENDAR