BEGIN:VCALENDAR
VERSION:2.0
PRODID:-//eventon.com NONSGML v1.0//EN
CALSCALE:GREGORIAN
METHOD:PUBLISH
BEGIN:VEVENT
UID:69e738ee27960
DTSTAMP:20260421T084430Z
DTSTART:20260414T160000Z
DTEND:20260414T180000Z
LOCATION:01. SC Vereinsheim Elkartweg 18\,  13587 Berlin
SUMMARY:4. Vorstandssitzung
DESCRIPTION:4. Vorstandssitzung\nhttps://scspandau.de/events/4-vorstandssit
 zung-4/
URL:https://scspandau.de/events/4-vorstandssitzung-4/
END:VEVENT
END:VCALENDAR